Workbook

Sheet Chlapci
B2: CELKOVÉ VÝSLEDKY BODOVÁNÍ XVIII. ROČNÍKU POHÁRU PRIMÁTORA STATUTÁRNÍHO MĚSTA KARVINÁ období 1. 9. 2021 - 30. 6. 2022
B4: Žáci | D4: 44636 | E4: 44637 | H4: 44644 | I4: 44645 | L4: 44704 | M4: 44707 | O4: 44728 | U4: 44719
B5: Celkové pořadí | C5: soutěž škola | D5: Florbal - Mladší žáci | E5: Florbal - Starší žáci | F5: Okresní kolo florbalu - Mladší žáci | G5: Okresní kolo florbalu - Starší žáci | H5: MK Basketbal - Mladší žáci | I5: MK Basketbal - Starší žáci | J5: OK Basketbal -Mladší žáci | K5: OK Basketbal - Starší žáci | L5: MK v minikopané - Mladší žáci | M5: MK v minikopané - Starší žáci | N5: OK Minikopaná - Mladší žáci | O5: OK Minikopaná - Starší žáci | Q5: Pohár Rozhlasu - Mladší žáci | R5: Pohár rozhlasu - Starší žáci | S5: OK Pohár rozhlasu - Mladší žáci | T5: OK Pohár rozhlasu - Starší žáci | U5: MK Atl. čtyřboj - Mladší žáci | V5: MK Atl. čtyřboj - Starší žáci | W5: Olympiáda karvinských škol - 2x | X5: Celkem bodů Mladší + Starší žáci
B6: 1. | C6: ZŠ a MŠ Borovského | D6: 14 | E6: 14 | H6: 11 | I6: 12 | L6: 10 | M6: 11 | O6: 0 | P6: 0 | U6: 14 | V6: 12 | X6: =SUM(D6:W6) -> 98
B7: 2. | C7: ZŠ a MŠ Dělnická | D7: 12 | E7: 12 | H7: 14 | I7: 11 | L7: 14 | M7: 14 | O7: 5 | P7: 10 | U7: 0 | V7: 0 | X7: =SUM(D7:W7) -> 92
B8: 3. | C8: Gymnázium Karviná | D8: 0 | E8: 10 | H8: 12 | I8: 14 | L8: 12 | M8: 12 | O8: 5 | P8: 0 | U8: 0 | V8: 0 | X8: =SUM(D8:W8) -> 65
B9: 4. | C9: ZŠ a MŠ U Lesa | D9: 10 | E9: 8.5 | H9: 0 | I9: 0 | L9: 0 | M9: 9 | O9: 0 | P9: 0 | U9: 12 | V9: 11 | X9: =SUM(D9:W9) -> 50.5
B10: 5. | C10: ZŠ a MŠ Školská | D10: 0 | E10: 8.5 | H10: 0 | I10: 8 | L10: 0 | M10: 8 | O10: 0 | P10: 0 | U10: 11 | V10: 10 | X10: =SUM(D10:W10) -> 45.5
B11: 6. | C11: ZŠ a MŠ Slovenská | D11: 0 | E11: 5 | H11: 10 | I11: 6 | L11: 0 | M11: 7 | O11: 0 | P11: 0 | U11: 0 | V11: 14 | X11: =SUM(D11:W11) -> 42
B12: 7. | C12: ZŠ a MŠ Prameny | D12: 0 | E12: 6.5 | H12: 0 | I12: 7 | L12: 11 | M12: 10 | O12: 0 | P12: 0 | U12: 0 | V12: 0 | X12: =SUM(D12:W12) -> 34.5
B13: 8. | C13: ZŠ a MŠ Petrovice | D13: 11 | E13: 11 | H13: 0 | I13: 9 | L13: 0 | M13: 0 | O13: 0 | P13: 0 | U13: 0 | V13: 0 | X13: =SUM(D13:W13) -> 31
B14: 9. | C14: ZŠ a MŠ Majakovského | D14: 9 | E14: 6.5 | H14: 0 | I14: 10 | L14: 0 | M14: 0 | O14: 0 | P14: 0 | U14: 0 | V14: 0 | X14: =SUM(D14:W14) -> 25.5
B15: 10.-14. | C15: ZŠ a MŠ Cihelní | D15: 0 | E15: 0 | H15: 0 | I15: 0 | L15: 0 | M15: 0 | O15: 0 | P15: 0 | U15: 0 | V15: 0 | X15: =SUM(D15:W15) -> 0
B16: 10.-14. | C16: ZŠ a MŠ Mendelova | D16: 0 | E16: 0 | H16: 0 | I16: 0 | L16: 0 | M16: 0 | O16: 0 | P16: 0 | U16: 0 | V16: 0 | X16: =SUM(D16:W16) -> 0
B17: 10.-14. | C17: ZŠ a MŠ U Studny | D17: 0 | E17: 0 | H17: 0 | I17: 0 | L17: 0 | M17: 0 | O17: 0 | P17: 0 | U17: 0 | V17: 0 | X17: =SUM(D17:W17) -> 0
... B19: 10.-14. | C19: ZŠ a MŠ Družby | D19: 0 | E19: 0 | H19: 0 | I19: 0 | L19: 0 | M19: 0 | O19: 0 | P19: 0 | U19: 0 | V19: 0 | X19: =SUM(D19:W19) -> 0
H21: Okresní kolo - umístění do 3. místa = +5 bodů | W21: Bodovací tabulka PP
H22: Krajské kolo - umístění do 3. místa = +10 bodů | W22: Poř. | X22: Body | Y22: Poř. | Z22: Body
H23: Finále ČR - umístění do 3. místa = +15 bodů | W23: 1. | X23: 14b | Y23: 8. | Z23: 6b
H24: Hodnoceno dvojnásobně | W24: 2. | X24: 12b | Y24: 9. | Z24: 5b
W25: 3. | X25: 11b | Y25: 10. | Z25: 4b
W26: 4. | X26: 10b | Y26: 11. | Z26: 3b
W27: 5. | X27: 9b | Y27: 12. | Z27: 2b
W28: 6. | X28: 8b | Y28: 13. | Z28: 1b
W29: 7. | X29: 7b

Sheet Dívky
B2: CELKOVÉ VÝSLEDKY BODOVÁNÍ XVIII. ROČNÍKU POHÁRU PRIMÁTORA STATUTÁRNÍHO MĚSTA KARVINÁ období 1. 9. 2021 - 30. 6. 2022
B4: Žákyně | H4: 44670 | I4: 44671 | P4: 44719
B5: Celkové pořadí | C5: soutěž škola | D5: Florbal - Starší žákyně | E5: OK ve florbale - Starší žákyně | F5: Basketbalová liga - Starší žákyně | G5: OK Basketbal - Starší žákyně | H5: Vybíjená - Mladší žákyně | I5: Vybíjená - Starší žákyně | J5: OK Vybíjená - Mladší žákyně | K5: OK Vybíjená - Starší žákyně | L5: Pohár Rozhlasu - Mladší žákyně | M5: Pohár rozhlasu - Starší žákyně | N5: OK Pohár rozhlasu - Mladší žákyně | O5: OK Pohár rozhlasu - Starší žákyně | P5: MK Atl. čtyřboj - Mladší žákyně | Q5: MK Atl. čtyřboj - Starší žákyně | R5: Olympiáda karvinských škol - 2x | S5: Celkem bodů mladší + starší dívky
B6: 1. | C6: ZŠ a MŠ Borovského | H6: 10 | I6: 8 | P6: 14 | Q6: 14 | S6: =SUM(D6:R6) -> 46
B7: 2. | C7: ZŠ a MŠ Školská | H7: 9 | I7: 10 | P7: 12 | Q7: 11 | S7: =SUM(D7:R7) -> 42
B8: 3. | C8: ZŠ a MŠ Petrovice | H8: 14 | I8: 12 | P8: 0 | Q8: 0 | S8: =SUM(D8:R8) -> 26
B9: 4. | C9: ZŠ a MŠ U Lesa | H9: 0 | I9: 0 | P9: 11 | Q9: 12 | S9: =SUM(D9:R9) -> 23
B10: 5.-6. | C10: ZŠ a MŠ Dělnická | H10: 8 | I10: 14 | P10: 0 | Q10: 0 | S10: =SUM(D10:R10) -> 22
B11: 5.-6. | C11: ZŠ a MŠ Mendelova | H11: 11 | I11: 11 | P11: 0 | Q11: 0 | S11: =SUM(D11:R11) -> 22
B12: 7. | C12: ZŠ a MŠ Slovenská | H12: 0 | I12: 0 | P12: 10 | Q12: 10 | S12: =SUM(D12:R12) -> 20
B13: 8. | C13: ZŠ a MŠ U Studny | H13: 12 | I13: 7 | P13: 0 | Q13: 0 | S13: =SUM(D13:R13) -> 19
B14: 9. | C14: ZŠ a MŠ Prameny | H14: 7 | I14: 6 | P14: 0 | Q14: 0 | S14: =SUM(D14:R14) -> 13
B15: 10. | C15: ZŠ a MŠ Majakovského | H15: 0 | I15: 9 | P15: 0 | Q15: 0 | S15: =SUM(D15:R15) -> 9
B16: 11. | C16: ZŠ a MŠ Cihelní | H16: 0 | I16: 0 | P16: 0 | Q16: 0 | S16: =SUM(D16:R16) -> 0
B17: 12. | C17: PZŠ a MŠ Dr. Olszaka | H17: 0 | I17: 0 | P17: 0 | Q17: 0 | S17: =SUM(D17:R17) -> 0
... B19: 14. | C19: ZŠ a MŠ Družby | H19: 0 | I19: 0 | P19: 0 | Q19: 0 | S19: =SUM(D19:R19) -> 0
F22: Okresní kolo - umístění do 3. místa = +5 bodů | S22: Bodovací tabulka PP
F23: Krajské kolo - umístění do 3. místa = +10 bodů | S23: Poř. | T23: Body | U23: Poř. | V23: Body
F24: Finále ČR - umístění do 3. místa = +15 bodů | S24: 1. | T24: 14b | U24: 8. | V24: 6b
F25: Hodnoceno dvojnásobně | S25: 2. | T25: 12b | U25: 9. | V25: 5b
S26: 3. | T26: 11b | U26: 10. | V26: 4b
S27: 4. | T27: 10b | U27: 11. | V27: 3b
S28: 5. | T28: 9b | U28: 12. | V28: 2b
S29: 6. | T29: 8b | U29: 13. | V29: 1b
S30: 7. | T30: 7b

Sheet Chlapci + Dívky
B2: CELKOVÉ VÝSLEDKY BODOVÁNÍ XVIII. ROČNÍKU POHÁRU PRIMÁTORA STATUTÁRNÍHO MĚSTA KARVINÁ období 1. 9. 2021 - 30. 6. 2022
B4: Pořadí | C4: Škola | D4: Celkem | E4: Chlapci | F4: Dívky
B5: 1. | C5: ZŠ a MŠ Borovského | D5: =E5+F5 -> 144 | E5: =SUMIF(Chlapci!$C$6:$C$19,C5,Chlapci!$X$6:$X$19) -> 98 | F5: =SUMIF(Dívky!$C$6:$C$19,C5,Dívky!$S$6:$S$19) -> 46
B6: 2. | C6: ZŠ a MŠ Dělnická | D6: =E6+F6 -> 114 | E6: =SUMIF(Chlapci!$C$6:$C$19,C6,Chlapci!$X$6:$X$19) -> 92 | F6: =SUMIF(Dívky!$C$6:$C$19,C6,Dívky!$S$6:$S$19) -> 22
B7: 3. | C7: ZŠ a MŠ Školská | D7: =E7+F7 -> 87.5 | E7: =SUMIF(Chlapci!$C$6:$C$19,C7,Chlapci!$X$6:$X$19) -> 45.5 | F7: =SUMIF(Dívky!$C$6:$C$19,C7,Dívky!$S$6:$S$19) -> 42
B8: 4. | C8: ZŠ a MŠ U Lesa | D8: =E8+F8 -> 73.5 | E8: =SUMIF(Chlapci!$C$6:$C$19,C8,Chlapci!$X$6:$X$19) -> 50.5 | F8: =SUMIF(Dívky!$C$6:$C$19,C8,Dívky!$S$6:$S$19) -> 23
B9: 5. | C9: ZŠ a MŠ Slovenská | D9: =E9+F9 -> 62 | E9: =SUMIF(Chlapci!$C$6:$C$19,C9,Chlapci!$X$6:$X$19) -> 42 | F9: =SUMIF(Dívky!$C$6:$C$19,C9,Dívky!$S$6:$S$19) -> 20
B10: 6. | C10: Gymnázium Karviná | D10: =E10+F10 -> 65 | E10: =SUMIF(Chlapci!$C$6:$C$19,C10,Chlapci!$X$6:$X$19) -> 65 | F10: =SUMIF(Dívky!$C$6:$C$19,C10,Dívky!$S$6:$S$19) -> 0
B11: 7. | C11: ZŠ a MŠ Petrovice | D11: =E11+F11 -> 57 | E11: =SUMIF(Chlapci!$C$6:$C$19,C11,Chlapci!$X$6:$X$19) -> 31 | F11: =SUMIF(Dívky!$C$6:$C$19,C11,Dívky!$S$6:$S$19) -> 26
B12: 8. | C12: ZŠ a MŠ Prameny | D12: =E12+F12 -> 47.5 | E12: =SUMIF(Chlapci!$C$6:$C$19,C12,Chlapci!$X$6:$X$19) -> 34.5 | F12: =SUMIF(Dívky!$C$6:$C$19,C12,Dívky!$S$6:$S$19) -> 13
B13: 9. | C13: ZŠ a MŠ Majakovského | D13: =E13+F13 -> 34.5 | E13: =SUMIF(Chlapci!$C$6:$C$19,C13,Chlapci!$X$6:$X$19) -> 25.5 | F13: =SUMIF(Dívky!$C$6:$C$19,C13,Dívky!$S$6:$S$19) -> 9
B14: 10. | C14: ZŠ a MŠ Mendelova | D14: =E14+F14 -> 22 | E14: =SUMIF(Chlapci!$C$6:$C$19,C14,Chlapci!$X$6:$X$19) -> 0 | F14: =SUMIF(Dívky!$C$6:$C$19,C14,Dívky!$S$6:$S$19) -> 22
B15: 11. | C15: ZŠ a MŠ U Studny | D15: =E15+F15 -> 19 | E15: =SUMIF(Chlapci!$C$6:$C$19,C15,Chlapci!$X$6:$X$19) -> 0 | F15: =SUMIF(Dívky!$C$6:$C$19,C15,Dívky!$S$6:$S$19) -> 19
B16: 12.-14. | C16: ZŠ a MŠ Cihelní | D16: =E16+F16 -> 0 | E16: =SUMIF(Chlapci!$C$6:$C$19,C16,Chlapci!$X$6:$X$19) -> 0 | F16: =SUMIF(Dívky!$C$6:$C$19,C16,Dívky!$S$6:$S$19) -> 0
... B18: 12.-14. | C18: ZŠ a MŠ Družby | D18: =E18+F18 -> 0 | E18: =SUMIF(Chlapci!$C$6:$C$19,C18,Chlapci!$X$6:$X$19) -> 0 | F18: =SUMIF(Dívky!$C$6:$C$19,C18,Dívky!$S$6:$S$19) -> 0
