Workbook

Sheet Chlapci
B2: CELKOVÉ VÝSLEDKY BODOVÁNÍ XIX. ROČNÍKU POHÁRU PRIMÁTORA STATUTÁRNÍHO MĚSTA KARVINÁ období 1. 9. 2022 - 30. 6. 2023
B4: Žáci | D4: 44830 | F4: 44910 | H4: - | I4: 44980 | J4: - | L4: 45013 | M4: 45014 | N4: - | O4: 45069 | P4: 45027 | Q4: 45028 | R4: 45049 | T4: - | U4: - | V4: - | W4: 45077 | Y4: - | AA4: 45055 | AC4: 45068
B5: Celkové pořadí | C5: soutěž škola | D5: MK Přespolní běh - Mladší žáci | E5: MK Přespolní běh - Starší žáci | F5: MK Skok vysoký - Mladší žáci | G5: MK Skok vysoký - Starší žáci | H5: Florbal - Mladší žáci | I5: Florbal - Starší žáci | J5: Okresní kolo florbalu - Mladší žáci | K5: Okresní kolo florbalu - Starší žáci | L5: MK Basketbal - Mladší žáci | M5: MK Basketbal - Starší žáci | N5: OK Basketbal -Mladší žáci | O5: OK Basketbal - Starší žáci | P5: MK v minikopané - Mladší žáci | Q5: MK v minikopané - Starší žáci | R5: MK Štafetový běh - Mladší žáci | S5: MK Štafetový běh - Starší žáci | T5: OK Minikopaná - Mladší žáci | U5: OK Minikopaná - Starší žáci | V5: KK Minikopaná - Starší žáci | W5: Pohár Rozhlasu - Mladší žáci | X5: Pohár rozhlasu - Starší žáci | Y5: OK Pohár rozhlasu - Mladší žáci | Z5: OK Pohár rozhlasu - Starší žáci | AA5: MK Atl. čtyřboj - Mladší žáci | AB5: MK Atl. čtyřboj - Starší žáci | AC5: OK Atletický čtyřboj - Mladší žáci | AD5: OK Atletický čtyřboj - Starší žáci | AE5: Olympiáda karvinských škol - 2x | AF5: Celkem bodů Mladší + Starší žáci
B6: 1. | C6: ZŠ a MŠ Dělnická | D6: 12 | E6: 12 | F6: 12 | G6: 11 | H6: 0 | I6: 11 | J6: 0 | K6: 0 | L6: 12 | M6: 14 | N6: 0 | P6: 14 | Q6: 14 | R6: 12 | S6: 14 | T6: 0 | U6: 5 | V6: 10 | W6: 12 | X6: 11 | Y6: 0 | Z6: 0 | AA6: 12 | AB6: 14 | AC6: 5 | AD6: 5 | AE6: 28 | AF6: =SUM(D6:AE6) -> 240
B7: 2. | C7: ZŠ a MŠ Borovského | D7: 14 | E7: 14 | F7: 10 | G7: 9 | H7: 0 | I7: 14 | J7: 0 | K7: 5 | L7: 0 | M7: 8.5 | N7: 0 | P7: 10 | Q7: 6.5 | R7: 14 | S7: 10 | T7: 0 | U7: 0 | V7: 0 | W7: 14 | X7: 10 | Y7: 0 | Z7: 0 | AA7: 14 | AB7: 10 | AC7: 0 | AD7: 0 | AE7: 22 | AF7: =SUM(D7:AE7) -> 185
B8: 3. | C8: ZŠ a MŠ Mendelova | D8: 0 | E8: 0 | F8: 14 | G8: 12 | H8: 0 | I8: 8.5 | J8: 0 | K8: 0 | L8: 9 | M8: 8.5 | N8: 0 | P8: 9 | Q8: 6.5 | R8: 10 | S8: 9 | T8: 0 | U8: 0 | V8: 0 | W8: 10 | X8: 8 | Y8: 0 | Z8: 0 | AA8: 11 | AB8: 7 | AC8: 0 | AD8: 0 | AE8: 20 | AF8: =SUM(D8:AE8) -> 142.5
B9: 4. | C9: ZŠ a MŠ Cihelní | D9: 0 | E9: 0 | F9: 9 | G9: 14 | H9: 0 | I9: 4.5 | J9: 0 | K9: 0 | L9: 0 | M9: 0 | N9: 0 | P9: 0 | Q9: 0 | R9: 9 | S9: 0 | T9: 0 | U9: 0 | V9: 0 | W9: 9 | X9: 14 | Y9: 0 | Z9: 0 | AA9: 6 | AB9: 12 | AC9: 0 | AD9: 0 | AE9: 24 | AF9: =SUM(D9:AE9) -> 101.5
B10: 5. | C10: ZŠ a MŠ Prameny | D10: 0 | E10: 0 | F10: 0 | G10: 0 | H10: 0 | I10: 8.5 | J10: 0 | K10: 0 | L10: 0 | M10: 0 | N10: 0 | P10: 12 | Q10: 12 | R10: 11 | S10: 11 | T10: 0 | U10: 5 | V10: 0 | W10: 11 | X10: 9 | Y10: 0 | Z10: 0 | AA10: 0 | AB10: 0 | AC10: 0 | AD10: 0 | AE10: 16 | AF10: =SUM(D10:AE10) -> 95.5
B11: 6. | C11: ZŠ a MŠ Slovenská | D11: 11 | E11: 11 | F11: 8 | G11: 10 | H11: 0 | I11: 4.5 | J11: 0 | K11: 0 | L11: 0 | M11: 0 | N11: 0 | P11: 0 | Q11: 0 | R11: 0 | S11: 0 | T11: 0 | U11: 0 | V11: 0 | W11: 0 | X11: 12 | Y11: 0 | Z11: 0 | AA11: 7 | AB11: 0 | AC11: 0 | AD11: 0 | AE11: 18 | AF11: =SUM(D11:AE11) -> 81.5
B12: 7.-8. | C12: ZŠ a MŠ Majakovského | D12: 10 | E12: 0 | F12: 0 | G12: 0 | H12: 0 | I12: 6.5 | J12: 0 | K12: 0 | L12: 10 | M12: 11 | N12: 0 | P12: 8 | Q12: 10 | R12: 0 | S12: 0 | T12: 0 | U12: 0 | V12: 0 | W12: 0 | X12: 0 | Y12: 0 | Z12: 0 | AA12: 0 | AB12: 8 | AC12: 0 | AD12: 0 | AE12: 14 | AF12: =SUM(D12:AE12) -> 77.5
B13: 7.-8. | C13: Gymnázium Karviná | D13: 0 | E13: 0 | F13: 0 | G13: 0 | H13: 0 | I13: 6.5 | J13: 0 | K13: 0 | L13: 14 | M13: 12 | N13: 0 | P13: 11 | Q13: 8.5 | R13: 0 | S13: 0 | T13: 0 | U13: 0 | V13: 0 | W13: 0 | X13: 0 | Y13: 0 | Z13: 0 | AA13: 9 | AB13: 11 | AC13: 0 | AD13: 0 | AE13: 0 | AF13: =SUM(D13:AE13) -> 72
B14: 9. | C14: ZŠ a MŠ Petrovice | D14: 0 | E14: 0 | F14: 11 | G14: 8 | H14: 0 | I14: 12 | J14: 0 | K14: 0 | L14: 11 | M14: 10 | N14: 0 | P14: 0 | Q14: 0 | R14: 0 | S14: 0 | T14: 0 | U14: 0 | V14: 0 | W14: 0 | X14: 0 | Y14: 0 | Z14: 0 | AA14: 0 | AB14: 0 | AC14: 0 | AD14: 0 | AE14: 0 | AF14: =SUM(D14:AE14) -> 52
B15: 10. | C15: ZŠ a MŠ Školská | D15: 0 | E15: 0 | F15: 0 | G15: 0 | H15: 0 | I15: 10 | J15: 0 | K15: 0 | L15: 0 | M15: 7 | N15: 0 | P15: 0 | Q15: 0 | R15: 0 | S15: 0 | T15: 0 | U15: 0 | V15: 0 | W15: 0 | X15: 0 | Y15: 0 | Z15: 0 | AA15: 8 | AB15: 6 | AC15: 0 | AD15: 0 | AE15: 12 | AF15: =SUM(D15:AE15) -> 43
B16: 11. | C16: ZŠ a MŠ U Lesa | D16: 0 | E16: 0 | F16: 0 | G16: 0 | H16: 0 | I16: 0 | J16: 0 | K16: 0 | L16: 0 | M16: 0 | N16: 0 | P16: 0 | Q16: 8.5 | R16: 8 | S16: 8 | T16: 0 | U16: 0 | V16: 0 | W16: 0 | X16: 0 | Y16: 0 | Z16: 0 | AA16: 10 | AB16: 0 | AC16: 0 | AD16: 0 | AE16: 0 | AF16: =SUM(D16:AE16) -> 34.5
B17: 12. | C17: ZŠ a MŠ U Studny | D17: 0 | E17: 0 | F17: 0 | G17: 0 | H17: 0 | I17: 0 | J17: 0 | K17: 0 | L17: 0 | M17: 0 | N17: 0 | P17: 0 | Q17: 5 | R17: 0 | S17: 12 | T17: 0 | U17: 0 | V17: 0 | W17: 0 | X17: 7 | Y17: 0 | Z17: 0 | AA17: 0 | AB17: 9 | AC17: 0 | AD17: 0 | AE17: 0 | AF17: =SUM(D17:AE17) -> 33
... B19: 14. | C19: PZŠ a MŠ Dr. Olszaka | D19: 0 | E19: 0 | F19: 0 | G19: 0 | H19: 0 | I19: 0 | J19: 0 | K19: 0 | L19: 0 | M19: 0 | N19: 0 | P19: 0 | Q19: 0 | R19: 0 | S19: 0 | T19: 0 | U19: 0 | V19: 0 | W19: 0 | X19: 0 | Y19: 0 | Z19: 0 | AA19: 0 | AB19: 0 | AC19: 0 | AD19: 0 | AE19: 0 | AF19: =SUM(D19:AE19) -> 0
L21: Okresní kolo - umístění do 3. místa = +5 bodů | AE21: Bodovací tabulka PP
L22: Krajské kolo - umístění do 3. místa = +10 bodů | AE22: Poř. | AF22: Body | AG22: Poř. | AH22: Body
L23: Finále ČR - umístění do 3. místa = +15 bodů | AE23: 1. | AF23: 14b | AG23: 8. | AH23: 6b
L24: Hodnoceno dvojnásobně | AE24: 2. | AF24: 12b | AG24: 9. | AH24: 5b
AE25: 3. | AF25: 11b | AG25: 10. | AH25: 4b
AE26: 4. | AF26: 10b | AG26: 11. | AH26: 3b
AE27: 5. | AF27: 9b | AG27: 12. | AH27: 2b
AE28: 6. | AF28: 8b | AG28: 13. | AH28: 1b
AE29: 7. | AF29: 7b

Sheet Dívky
B2: CELKOVÉ VÝSLEDKY BODOVÁNÍ XIX. ROČNÍKU POHÁRU PRIMÁTORA STATUTÁRNÍHO MĚSTA KARVINÁ období 1. 9. 2022 - 30. 6. 2023
B4: Žákyně | D4: 44830 | F4: 44910 | H4: 44959 | I4: - | J4: 45015 | K4: - | L4: 45035 | M4: 45036 | N4: 45049 | P4: - | Q4: - | R4: 45077 | T4: - | V4: 45055 | X4: 45068
B5: Celkové pořadí | C5: soutěž škola | D5: MK Přespolní běh - Mladší žákyně | E5: MK Přespolní běh - Starší žákyně | F5: MK Skok vysoký - Mladší žákyně | G5: MK Skok vysoký - Starší žákyně | H5: Florbal - Starší žákyně | I5: OK ve florbale - Starší žákyně | J5: Basketbalová liga - Starší žákyně | K5: OK Basketbal - Starší žákyně | L5: Vybíjená - Mladší žákyně | M5: Vybíjená - Starší žákyně | N5: MK Štafetový běh - Mladší žákyně | O5: MK Štafetový běh - Starší žákyně | P5: OK Vybíjená - Mladší žákyně | Q5: OK Vybíjená - Starší žákyně | R5: Pohár Rozhlasu - Mladší žákyně | S5: Pohár rozhlasu - Starší žákyně | T5: OK Pohár rozhlasu - Mladší žákyně | U5: OK Pohár rozhlasu - Starší žákyně | V5: MK Atl. čtyřboj - Mladší žákyně | W5: MK Atl. čtyřboj - Starší žákyně | X5: OK Atletický čtyřboj - Mladší žákyně | Y5: Olympiáda karvinských škol - 2x | Z5: Celkem bodů mladší + starší dívky
B6: 1. | C6: ZŠ a MŠ Borovského | D6: 14 | E6: 14 | F6: 11 | G6: 12 | H6: 8 | I6: 0 | J6: 11 | K6: 0 | L6: 14 | M6: 8.5 | N6: 12 | O6: 12 | P6: 0 | Q6: 0 | R6: 11 | S6: 14 | T6: 0 | U6: 0 | V6: 14 | W6: 12 | X6: 5 | Y6: 24 | Z6: =SUM(D6:Y6) -> 196.5
B7: 2. | C7: ZŠ a MŠ Dělnická | D7: 12 | E7: 12 | F7: 0 | G7: 9 | H7: 12 | I7: 0 | J7: 12 | K7: 0 | L7: 9 | M7: 12 | N7: 11 | O7: 10 | P7: 0 | Q7: 0 | R7: 14 | S7: 11 | T7: 0 | U7: 0 | V7: 9 | W7: 10 | X7: 0 | Y7: 28 | Z7: =SUM(D7:Y7) -> 171
B8: 3. | C8: ZŠ a MŠ Mendelova | D8: 0 | E8: 0 | F8: 10 | G8: 10 | H8: 0 | I8: 0 | J8: 0 | K8: 0 | L8: 12 | M8: 6.5 | N8: 8 | O8: 9 | P8: 0 | Q8: 0 | R8: 9 | S8: 8 | T8: 0 | U8: 0 | V8: 10 | W8: 8 | X8: 0 | Y8: 12 | Z8: =SUM(D8:Y8) -> 102.5
B9: 4. | C9: ZŠ a MŠ U Studny | D9: 0 | E9: 0 | F9: 0 | G9: 0 | H9: 0 | I9: 0 | J9: 0 | K9: 0 | L9: 0 | M9: 10 | N9: 14 | O9: 14 | P9: 0 | Q9: 0 | R9: 12 | S9: 12 | T9: 0 | U9: 0 | V9: 12 | W9: 14 | X9: 0 | Y9: 0 | Z9: =SUM(D9:Y9) -> 88
B10: 5. | C10: ZŠ a MŠ Cihelní | D10: 0 | E10: 0 | F10: 0 | G10: 11 | H10: 0 | I10: 0 | J10: 0 | K10: 0 | L10: 0 | M10: 4.5 | N10: 10 | O10: 0 | P10: 0 | Q10: 0 | R10: 10 | S10: 9 | T10: 0 | U10: 0 | V10: 11 | W10: 7 | X10: 0 | Y10: 22 | Z10: =SUM(D10:Y10) -> 84.5
B11: 6. | C11: ZŠ a MŠ Prameny | D11: 0 | E11: 0 | F11: 0 | G11: 0 | H11: 11 | I11: 0 | J11: 0 | K11: 0 | L11: 8 | M11: 8.5 | N11: 9 | O11: 11 | P11: 0 | Q11: 0 | R11: 8 | S11: 10 | T11: 0 | U11: 0 | V11: 0 | W11: 0 | X11: 0 | Y11: 16 | Z11: =SUM(D11:Y11) -> 81.5
B12: 7. | C12: ZŠ a MŠ Petrovice | D12: 0 | E12: 0 | F12: 14 | G12: 14 | H12: 14 | I12: 0 | J12: 14 | K12: 0 | L12: 11 | M12: 14 | N12: 0 | O12: 0 | P12: 0 | Q12: 0 | R12: 0 | S12: 0 | T12: 0 | U12: 0 | V12: 0 | W12: 0 | X12: 0 | Y12: 0 | Z12: =SUM(D12:Y12) -> 81
B13: 8.- | C13: ZŠ a MŠ Slovenská | D13: 10 | E13: 0 | F13: 12 | G13: 0 | H13: 10 | I13: 0 | J13: 9 | K13: 0 | L13: 0 | M13: 4.5 | N13: 0 | O13: 0 | P13: 0 | Q13: 0 | R13: 0 | S13: 7 | T13: 0 | U13: 0 | V13: 5 | W13: 0 | X13: 0 | Y13: 20 | Z13: =SUM(D13:Y13) -> 77.5
B14: 9. | C14: ZŠ a MŠ Majakovského | D14: 11 | E14: 11 | F14: 0 | G14: 0 | H14: 9 | I14: 0 | J14: 10 | K14: 0 | L14: 0 | M14: 6.5 | N14: 0 | O14: 0 | P14: 0 | Q14: 0 | R14: 0 | S14: 0 | T14: 0 | U14: 0 | V14: 0 | W14: 6 | X14: 0 | Y14: 14 | Z14: =SUM(D14:Y14) -> 67.5
B15: 10. | C15: ZŠ a MŠ Školská | D15: 0 | E15: 0 | F15: 0 | G15: 0 | H15: 0 | I15: 0 | J15: 0 | K15: 0 | L15: 10 | M15: 11 | N15: 0 | O15: 0 | P15: 0 | Q15: 0 | R15: 0 | S15: 0 | T15: 0 | U15: 0 | V15: 7 | W15: 9 | X15: 0 | Y15: 18 | Z15: =SUM(D15:Y15) -> 55
B16: 11. - 14. | C16: Gymnázium Karviná | D16: 0 | E16: 0 | F16: 0 | G16: 0 | H16: 0 | I16: 0 | J16: 0 | K16: 0 | L16: 0 | M16: 0 | N16: 0 | O16: 0 | P16: 0 | Q16: 0 | R16: 0 | S16: 0 | T16: 0 | U16: 0 | V16: 8 | W16: 11 | X16: 0 | Y16: 0 | Z16: =SUM(D16:Y16) -> 19
B17: 11. - 14. | C17: ZŠ a MŠ U Lesa | D17: 0 | E17: 0 | F17: 0 | G17: 0 | H17: 0 | I17: 0 | J17: 0 | K17: 0 | L17: 0 | M17: 0 | N17: 0 | O17: 0 | P17: 0 | Q17: 0 | R17: 0 | S17: 0 | T17: 0 | U17: 0 | V17: 6 | W17: 0 | X17: 0 | Y17: 0 | Z17: =SUM(D17:Y17) -> 6
... B19: 11. - 14. | C19: ZŠ a MŠ Družby | D19: 0 | E19: 0 | F19: 0 | G19: 0 | H19: 0 | I19: 0 | J19: 0 | K19: 0 | L19: 0 | M19: 0 | N19: 0 | O19: 0 | P19: 0 | Q19: 0 | R19: 0 | S19: 0 | T19: 0 | U19: 0 | V19: 0 | W19: 0 | X19: 0 | Y19: 0 | Z19: =SUM(D19:Y19) -> 0
J22: Okresní kolo - umístění do 3. místa = +5 bodů | Z22: Bodovací tabulka PP
J23: Krajské kolo - umístění do 3. místa = +10 bodů | Z23: Poř. | AA23: Body | AB23: Poř. | AC23: Body
J24: Finále ČR - umístění do 3. místa = +15 bodů | Z24: 1. | AA24: 14b | AB24: 8. | AC24: 6b
J25: Hodnoceno dvojnásobně | Z25: 2. | AA25: 12b | AB25: 9. | AC25: 5b
Z26: 3. | AA26: 11b | AB26: 10. | AC26: 4b
Z27: 4. | AA27: 10b | AB27: 11. | AC27: 3b
Z28: 5. | AA28: 9b | AB28: 12. | AC28: 2b
Z29: 6. | AA29: 8b | AB29: 13. | AC29: 1b
Z30: 7. | AA30: 7b

Sheet Chlapci + Dívky
B2: CELKOVÉ VÝSLEDKY BODOVÁNÍ XIX. ROČNÍKU POHÁRU PRIMÁTORA STATUTÁRNÍHO MĚSTA KARVINÁ období 1. 9. 2022 - 30. 6. 2023
B4: Pořadí | C4: Škola | D4: Celkem | E4: Chlapci | F4: Dívky
B5: 1. | C5: ZŠ a MŠ Dělnická | D5: =E5+F5 -> 411 | E5: =SUMIF(Chlapci!$C$6:$C$19,C5,Chlapci!$AF$6:$AF$19) -> 240 | F5: =SUMIF(Dívky!$C$6:$C$19,C5,Dívky!$Z$6:$Z$19) -> 171
B6: 2. | C6: ZŠ a MŠ Borovského | D6: =E6+F6 -> 381.5 | E6: =SUMIF(Chlapci!$C$6:$C$19,C6,Chlapci!$AF$6:$AF$19) -> 185 | F6: =SUMIF(Dívky!$C$6:$C$19,C6,Dívky!$Z$6:$Z$19) -> 196.5
B7: 3. | C7: ZŠ a MŠ Mendelova | D7: =E7+F7 -> 245 | E7: =SUMIF(Chlapci!$C$6:$C$19,C7,Chlapci!$AF$6:$AF$19) -> 142.5 | F7: =SUMIF(Dívky!$C$6:$C$19,C7,Dívky!$Z$6:$Z$19) -> 102.5
B8: 4. | C8: ZŠ a MŠ Cihelní | D8: =E8+F8 -> 186 | E8: =SUMIF(Chlapci!$C$6:$C$19,C8,Chlapci!$AF$6:$AF$19) -> 101.5 | F8: =SUMIF(Dívky!$C$6:$C$19,C8,Dívky!$Z$6:$Z$19) -> 84.5
B9: 5. | C9: ZŠ a MŠ Prameny | D9: =E9+F9 -> 177 | E9: =SUMIF(Chlapci!$C$6:$C$19,C9,Chlapci!$AF$6:$AF$19) -> 95.5 | F9: =SUMIF(Dívky!$C$6:$C$19,C9,Dívky!$Z$6:$Z$19) -> 81.5
B10: 6. | C10: ZŠ a MŠ Slovenská | D10: =E10+F10 -> 159 | E10: =SUMIF(Chlapci!$C$6:$C$19,C10,Chlapci!$AF$6:$AF$19) -> 81.5 | F10: =SUMIF(Dívky!$C$6:$C$19,C10,Dívky!$Z$6:$Z$19) -> 77.5
B11: 7. | C11: ZŠ a MŠ Majakovského | D11: =E11+F11 -> 145 | E11: =SUMIF(Chlapci!$C$6:$C$19,C11,Chlapci!$AF$6:$AF$19) -> 77.5 | F11: =SUMIF(Dívky!$C$6:$C$19,C11,Dívky!$Z$6:$Z$19) -> 67.5
B12: 8. | C12: ZŠ a MŠ Petrovice | D12: =E12+F12 -> 133 | E12: =SUMIF(Chlapci!$C$6:$C$19,C12,Chlapci!$AF$6:$AF$19) -> 52 | F12: =SUMIF(Dívky!$C$6:$C$19,C12,Dívky!$Z$6:$Z$19) -> 81
B13: 9. | C13: ZŠ a MŠ U Studny | D13: =E13+F13 -> 121 | E13: =SUMIF(Chlapci!$C$6:$C$19,C13,Chlapci!$AF$6:$AF$19) -> 33 | F13: =SUMIF(Dívky!$C$6:$C$19,C13,Dívky!$Z$6:$Z$19) -> 88
B14: 10. | C14: ZŠ a MŠ Školská | D14: =E14+F14 -> 98 | E14: =SUMIF(Chlapci!$C$6:$C$19,C14,Chlapci!$AF$6:$AF$19) -> 43 | F14: =SUMIF(Dívky!$C$6:$C$19,C14,Dívky!$Z$6:$Z$19) -> 55
B15: 11. | C15: Gymnázium Karviná | D15: =E15+F15 -> 91 | E15: =SUMIF(Chlapci!$C$6:$C$19,C15,Chlapci!$AF$6:$AF$19) -> 72 | F15: =SUMIF(Dívky!$C$6:$C$19,C15,Dívky!$Z$6:$Z$19) -> 19
B16: 12. | C16: ZŠ a MŠ U Lesa | D16: =E16+F16 -> 40.5 | E16: =SUMIF(Chlapci!$C$6:$C$19,C16,Chlapci!$AF$6:$AF$19) -> 34.5 | F16: =SUMIF(Dívky!$C$6:$C$19,C16,Dívky!$Z$6:$Z$19) -> 6
... B18: 14. | C18: PZŠ a MŠ Dr. Olszaka | D18: =E18+F18 -> 0 | E18: =SUMIF(Chlapci!$C$6:$C$19,C18,Chlapci!$AF$6:$AF$19) -> 0 | F18: =SUMIF(Dívky!$C$6:$C$19,C18,Dívky!$Z$6:$Z$19) -> 0
