Workbook

Sheet Chlapci
B2: CELKOVÉ VÝSLEDKY BODOVÁNÍ XX. ROČNÍKU POHÁRU PRIMÁTORA STATUTÁRNÍHO MĚSTA KARVINÁ období 1. 9. 2023 - 30. 6. 2024
B4: Žáci | D4: 44830 | F4: 45230 | H4: 45204 | J4: 45272 | L4: 45237 | M4: 45358 | N4: - | O4: - | P4: 45377 | Q4: 45378 | R4: - | S4: - | T4: 45392 | U4: 45393 | V4: 45414 | X4: - | Y4: 45414 | Z4: - | AA4: 45441 | AC4: - | AE4: 45422 | AG4: 45435 | AI4: 45456
B5: Celkové pořadí | C5: soutěž škola | D5: MK Přespolní běh - Mladší žáci | E5: MK Přespolní běh - Starší žáci | F5: MK Šplh - Mladší žáci | G5: MK Šplh - Starší žáci | H5: OK Přespolní běh - Mladší žáci | I5: OK Přespolní běh - Starší žáci | J5: MK Skok vysoký - Mladší žáci | K5: MK Skok vysoký - Starší žáci | L5: Florbal - Mladší žáci | M5: Florbal - Starší žáci | N5: Okresní kolo florbalu - Mladší žáci | O5: Okresní kolo florbalu - Starší žáci | P5: MK Basketbal - Mladší žáci | Q5: MK Basketbal - Starší žáci | R5: OK Basketbal -Mladší žáci | S5: OK Basketbal - Starší žáci | T5: MK v minikopané - Mladší žáci | U5: MK v minikopané - Starší žáci | V5: MK Štafetový běh - Mladší žáci | W5: MK Štafetový běh - Starší žáci | X5: OK Minikopaná - Mladší žáci | Y5: OK Minikopaná - Starší žáci | Z5: KK Minikopaná - Starší žáci | AA5: Pohár Rozhlasu - Mladší žáci | AB5: Pohár rozhlasu - Starší žáci | AC5: OK Pohár rozhlasu - Mladší žáci | AD5: OK Pohár rozhlasu - Starší žáci | AE5: MK Atl. čtyřboj - Mladší žáci | AF5: MK Atl. čtyřboj - Starší žáci | AG5: OK Atletický čtyřboj - Mladší žáci | AH5: OK Atletický čtyřboj - Starší žáci | AI5: Olympiáda karvinských škol - 2x | AJ5: Celkem bodů Mladší + Starší žáci
B6: 1. | C6: ZŠ a MŠ Dělnická | D6: 14 | E6: 11 | F6: 9 | G6: 11 | H6: 5 | I6: 5 | J6: 14 | K6: 14 | L6: 10 | M6: 8.5 | N6: - | O6: - | P6: 14 | Q6: 12 | R6: - | S6: - | T6: 14 | U6: 12 | V6: 14 | W6: 12 | X6: - | Y6: 5 | Z6: - | AA6: 14 | AB6: 12 | AC6: - | AD6: - | AE6: 12 | AF6: 14 | AG6: 5 | AH6: 0 | AI6: 28 | AJ6: =SUM(D6:AI6) -> 269.5
B7: 2. | C7: ZŠ a MŠ Borovského | D7: 11 | E7: 12 | F7: 12 | G7: 10 | H7: 0 | I7: 0 | J7: 9 | K7: 8 | L7: 14 | M7: 14 | N7: - | O7: - | P7: 11 | Q7: 8.5 | R7: - | S7: - | T7: 6.5 | U7: 10 | V7: 12 | W7: 8 | X7: - | Y7: 0 | Z7: - | AA7: 11 | AB7: 14 | AC7: - | AD7: - | AE7: 14 | AF7: 11 | AG7: 0 | AH7: 0 | AI7: 24 | AJ7: =SUM(D7:AI7) -> 220
B8: 3. | C8: ZŠ a MŠ Mendelova | D8: 7 | E8: 14 | F8: 7 | G8: 14 | H8: 0 | I8: 0 | J8: 11.5 | K8: 9.5 | L8: 12 | M8: 6.5 | N8: - | O8: - | P8: 10 | Q8: 14 | R8: - | S8: - | T8: 10 | U8: 8.5 | V8: 10 | W8: 14 | X8: - | Y8: 0 | Z8: - | AA8: 10 | AB8: 11 | AC8: - | AD8: - | AE8: 6 | AF8: 12 | AG8: 0 | AH8: 5 | AI8: 18 | AJ8: =SUM(D8:AI8) -> 210
B9: 4. | C9: ZŠ a MŠ Cihelní | D9: 8 | E9: 9.5 | F9: 14 | G9: 8 | H9: 0 | I9: 0 | J9: 10 | K9: 5 | L9: 0 | M9: 6.5 | N9: - | O9: - | P9: 0 | Q9: 0 | R9: - | S9: - | T9: 8.5 | U9: 8.5 | V9: 8 | W9: 10 | X9: - | Y9: 0 | Z9: - | AA9: 12 | AB9: 8 | AC9: - | AD9: - | AE9: 11 | AF9: 9 | AG9: 0 | AH9: 0 | AI9: 22 | AJ9: =SUM(D9:AI9) -> 158
B10: 5. | C10: ZŠ a MŠ Prameny | D10: 12 | E10: 7 | F10: 10 | G10: 7 | H10: 0 | I10: 0 | J10: 8 | K10: 7 | L10: 6.5 | M10: 10 | N10: - | O10: - | P10: 0 | Q10: 8.5 | R10: - | S10: - | T10: 12 | U10: 11 | V10: 0 | W10: 0 | X10: - | Y10: 0 | Z10: - | AA10: 0 | AB10: 0 | AC10: - | AD10: - | AE10: 10 | AF10: 6 | AG10: 0 | AH10: 0 | AI10: 20 | AJ10: =SUM(D10:AI10) -> 135
B11: 6. | C11: ZŠ a MŠ U Studny | D11: 10 | E11: 8 | F11: 8 | G11: 12 | H11: 0 | I11: 0 | J11: 7 | K11: 9.5 | L11: 11 | M11: 0 | N11: - | O11: - | P11: 0 | Q11: 0 | R11: - | S11: - | T11: 0 | U11: 6.5 | V11: 11 | W11: 11 | X11: - | Y11: 0 | Z11: - | AA11: 9 | AB11: 10 | AC11: - | AD11: - | AE11: 8 | AF11: 10 | AG11: 0 | AH11: 0 | AI11: 0 | AJ11: =SUM(D11:AI11) -> 131
B12: 7. | C12: ZŠ a MŠ Slovenská | D12: 9 | E12: 6 | F12: 0 | G12: 0 | H12: 0 | I12: 0 | J12: 6 | K12: 6 | L12: 0 | M12: 0 | N12: - | O12: - | P12: 8.5 | Q12: 0 | R12: - | S12: - | T12: 11 | U12: 0 | V12: 0 | W12: 0 | X12: - | Y12: 0 | Z12: - | AA12: 7 | AB12: 6 | AC12: - | AD12: - | AE12: 9 | AF12: 7 | AG12: 0 | AH12: 0 | AI12: 14 | AJ12: =SUM(D12:AI12) -> 89.5
B13: 8. | C13: ZŠ a MŠ Školská | D13: 0 | E13: 0 | F13: 0 | G13: 0 | H13: 0 | I13: 0 | J13: 0 | K13: 0 | L13: 4.5 | M13: 4.5 | N13: - | O13: - | P13: 6.5 | Q13: 0 | R13: - | S13: - | T13: 8.5 | U13: 6.5 | V13: 0 | W13: 0 | X13: - | Y13: 0 | Z13: - | AA13: 8 | AB13: 7 | AC13: - | AD13: - | AE13: 7 | AF13: 8 | AG13: 0 | AH13: 0 | AI13: 16 | AJ13: =SUM(D13:AI13) -> 76.5
B14: 9. | C14: ZŠ a MŠ Petrovice | D14: 0 | E14: 0 | F14: 11 | G14: 9 | H14: 0 | I14: 0 | J14: 11.5 | K14: 12 | L14: 8.5 | M14: 12 | N14: - | O14: - | P14: 0 | Q14: 10 | R14: - | S14: - | T14: 0 | U14: 0 | V14: 0 | W14: 0 | X14: - | Y14: 0 | Z14: - | AA14: 0 | AB14: 0 | AC14: - | AD14: - | AE14: 0 | AF14: 0 | AG14: 0 | AH14: 0 | AI14: 0 | AJ14: =SUM(D14:AI14) -> 74
B15: 10. | C15: Gymnázium Karviná | D15: 0 | E15: 0 | F15: 0 | G15: 0 | H15: 0 | I15: 0 | J15: 0 | K15: 11 | L15: 0 | M15: 11 | N15: - | O15: - | P15: 12 | Q15: 11 | R15: - | S15: - | T15: 0 | U15: 14 | V15: 0 | W15: 0 | X15: - | Y15: 0 | Z15: - | AA15: 0 | AB15: 9 | AC15: - | AD15: - | AE15: 0 | AF15: 0 | AG15: 0 | AH15: 0 | AI15: 0 | AJ15: =SUM(D15:AI15) -> 68
B16: 11. | C16: ZŠ a MŠ U Lesa | D16: 0 | E16: 0 | F16: 0 | G16: 0 | H16: 0 | I16: 0 | J16: 0 | K16: 0 | L16: 8.5 | M16: 8.5 | N16: - | O16: - | P16: 6.5 | Q16: 7 | R16: - | S16: - | T16: 0 | U16: 0 | V16: 9 | W16: 9 | X16: - | Y16: 0 | Z16: - | AA16: 0 | AB16: 0 | AC16: - | AD16: - | AE16: 0 | AF16: 0 | AG16: 0 | AH16: 0 | AI16: 0 | AJ16: =SUM(D16:AI16) -> 48.5
B17: 12. | C17: ZŠ a MŠ Majakovského | D17: 6 | E17: 9.5 | F17: 0 | G17: 6 | H17: 0 | I17: 0 | J17: 0 | K17: 0 | L17: 4.5 | M17: 4.5 | N17: - | O17: - | P17: 8.5 | Q17: 0 | R17: - | S17: - | T17: 6.5 | U17: 0 | V17: 0 | W17: 0 | X17: - | Y17: 0 | Z17: - | AA17: 0 | AB17: 0 | AC17: - | AD17: - | AE17: 0 | AF17: 0 | AG17: 0 | AH17: 0 | AI17: 0 | AJ17: =SUM(D17:AI17) -> 45.5
... B19: 14. | C19: PZŠ a MŠ Dr. Olszaka | D19: 0 | E19: 0 | F19: 0 | G19: 0 | H19: 0 | I19: 0 | J19: 0 | K19: 0 | L19: 0 | M19: 0 | N19: - | O19: - | P19: 0 | Q19: 0 | R19: - | S19: - | T19: 0 | U19: 0 | V19: 0 | W19: 0 | X19: - | Y19: 0 | Z19: - | AA19: 0 | AB19: 0 | AC19: - | AD19: - | AE19: 0 | AF19: 0 | AG19: 0 | AH19: 0 | AI19: 0 | AJ19: =SUM(D19:AI19) -> 0
P21: Okresní kolo - umístění do 3. místa = +5 bodů | AI21: Bodovací tabulka PP
P22: Krajské kolo - umístění do 3. místa = +10 bodů | AI22: Poř. | AJ22: Body | AK22: Poř. | AL22: Body
P23: Finále ČR - umístění do 3. místa = +15 bodů | AI23: 1. | AJ23: 14b | AK23: 8. | AL23: 6b
P24: Hodnoceno dvojnásobně | AI24: 2. | AJ24: 12b | AK24: 9. | AL24: 5b
AI25: 3. | AJ25: 11b | AK25: 10. | AL25: 4b
AI26: 4. | AJ26: 10b | AK26: 11. | AL26: 3b
AI27: 5. | AJ27: 9b | AK27: 12. | AL27: 2b
AI28: 6. | AJ28: 8b | AK28: 13. | AL28: 1b
AI29: 7. | AJ29: 7b

Sheet Dívky
B2: CELKOVÉ VÝSLEDKY BODOVÁNÍ XX. ROČNÍKU POHÁRU PRIMÁTORA STATUTÁRNÍHO MĚSTA KARVINÁ období 1. 9. 2023 - 30. 6. 2024
B4: Žákyně | D4: 44830 | F4: 45230 | H4: 45272 | J4: ZRUŠENO | K4: - | L4: - | M4: - | N4: 45406 | O4: 45407 | P4: 45414 | R4: - | S4: - | T4: 45441 | V4: - | X4: 45422 | Z4: 45435 | AA4: 45456
B5: Celkové pořadí | C5: soutěž škola | D5: MK Přespolní běh - Mladší žákyně | E5: MK Přespolní běh - Starší žákyně | F5: MK Šplh - Mladší žákyně | G5: MK Šplh - Starší žákyně | H5: MK Skok vysoký - Mladší žákyně | I5: MK Skok vysoký - Starší žákyně | J5: Florbal - Starší žákyně | K5: OK ve florbale - Starší žákyně | L5: Basketbalová liga - Starší žákyně | M5: OK Basketbal - Starší žákyně | N5: Vybíjená - Mladší žákyně | O5: Vybíjená - Starší žákyně | P5: MK Štafetový běh - Mladší žákyně | Q5: MK Štafetový běh - Starší žákyně | R5: OK Vybíjená - Mladší žákyně | S5: OK Vybíjená - Starší žákyně | T5: Pohár Rozhlasu - Mladší žákyně | U5: Pohár rozhlasu - Starší žákyně | V5: OK Pohár rozhlasu - Mladší žákyně | W5: OK Pohár rozhlasu - Starší žákyně | X5: MK Atl. čtyřboj - Mladší žákyně | Y5: MK Atl. čtyřboj - Starší žákyně | Z5: OK Atletický čtyřboj - Mladší žákyně | AA5: Olympiáda karvinských škol - 2x | AB5: Celkem bodů mladší + starší dívky
B6: 1. | C6: ZŠ a MŠ Borovského | D6: 12 | E6: 12 | F6: 14 | G6: 11 | H6: 11 | I6: 11 | J6: - | K6: - | L6: - | M6: - | N6: 14 | O6: 9 | P6: 12 | Q6: 12 | R6: - | S6: - | T6: 14 | U6: 14 | V6: - | W6: - | X6: 14 | Y6: 14 | Z6: 0 | AA6: 24 | AB6: =SUM(D6:AA6) -> 198
B7: 2. | C7: ZŠ a MŠ Dělnická | D7: 14 | E7: 14 | F7: 7 | G7: 8 | H7: 10 | I7: 10 | J7: - | K7: - | L7: - | M7: - | N7: 11 | O7: 8 | P7: 11 | Q7: 10 | R7: - | S7: - | T7: 11 | U7: 11 | V7: - | W7: - | X7: 12 | Y7: 10 | Z7: 5 | AA7: 28 | AB7: =SUM(D7:AA7) -> 180
B8: 3. | C8: ZŠ a MŠ U Studny | D8: 10 | E8: 11 | F8: 12 | G8: 14 | H8: 14 | I8: 8 | J8: - | K8: - | L8: - | M8: - | N8: 9 | O8: 12 | P8: 14 | Q8: 14 | R8: - | S8: - | T8: 12 | U8: 9 | V8: - | W8: - | X8: 11 | Y8: 12 | Z8: 0 | AA8: 0 | AB8: =SUM(D8:AA8) -> 162
B9: 4. | C9: ZŠ a MŠ Mendelova | D9: 9 | E9: 10 | F9: 10 | G9: 9 | H9: 12 | I9: 7 | J9: - | K9: - | L9: - | M9: - | N9: 10 | O9: 14 | P9: 9 | Q9: 8 | R9: - | S9: - | T9: 9 | U9: 7 | V9: - | W9: - | X9: 10 | Y9: 8 | Z9: 0 | AA9: 18 | AB9: =SUM(D9:AA9) -> 150
B10: 5. | C10: ZŠ a MŠ Cihelní | D10: 8 | E10: 8 | F10: 8 | G10: 12 | H10: 0 | I10: 0 | J10: - | K10: - | L10: - | M10: - | N10: 0 | O10: 7 | P10: 0 | Q10: 11 | R10: - | S10: - | T10: 0 | U10: 10 | V10: - | W10: - | X10: 0 | Y10: 11 | Z10: 0 | AA10: 22 | AB10: =SUM(D10:AA10) -> 97
B11: 6. | C11: ZŠ a MŠ Prameny | D11: 11 | E11: 9 | F11: 11 | G11: 7 | H11: 7.5 | I11: 9 | J11: - | K11: - | L11: - | M11: - | N11: 7 | O11: 6 | P11: 0 | Q11: 0 | R11: - | S11: - | T11: 0 | U11: 0 | V11: - | W11: - | X11: 9 | Y11: 0 | Z11: 0 | AA11: 0 | AB11: =SUM(D11:AA11) -> 76.5
B12: 7. | C12: ZŠ a MŠ Slovenská | D12: 7 | E12: 7 | F12: 0 | G12: 0 | H12: 7.5 | I12: 6 | J12: - | K12: - | L12: - | M12: - | N12: 0 | O12: 0 | P12: 0 | Q12: 0 | R12: - | S12: - | T12: 10 | U12: 6 | V12: - | W12: - | X12: 7 | Y12: 0 | Z12: 0 | AA12: 16 | AB12: =SUM(D12:AA12) -> 66.5
B13: 8. | C13: ZŠ a MŠ Školská | D13: 0 | E13: 0 | F13: 0 | G13: 0 | H13: 0 | I13: 0 | J13: - | K13: - | L13: - | M13: - | N13: 12 | O13: 11 | P13: 0 | Q13: 0 | R13: - | S13: - | T13: 0 | U13: 8 | V13: - | W13: - | X13: 0 | Y13: 9 | Z13: 0 | AA13: 20 | AB13: =SUM(D13:AA13) -> 60
B14: 9. | C14: ZŠ a MŠ Petrovice | D14: 0 | E14: 0 | F14: 9 | G14: 10 | H14: 9 | I14: 12 | J14: - | K14: - | L14: - | M14: - | N14: 8 | O14: 10 | P14: 0 | Q14: 0 | R14: - | S14: - | T14: 0 | U14: 0 | V14: - | W14: - | X14: 0 | Y14: 0 | Z14: 0 | AA14: 0 | AB14: =SUM(D14:AA14) -> 58
B15: 10. | C15: ZŠ a MŠ U Lesa | D15: 0 | E15: 0 | F15: 0 | G15: 0 | H15: 0 | I15: 0 | J15: - | K15: - | L15: - | M15: - | N15: 0 | O15: 0 | P15: 10 | Q15: 9 | R15: - | S15: - | T15: 0 | U15: 0 | V15: - | W15: - | X15: 8 | Y15: 7 | Z15: 0 | AA15: 0 | AB15: =SUM(D15:AA15) -> 34
B16: 11. | C16: Gymnázium Karviná | D16: 0 | E16: 0 | F16: 0 | G16: 0 | H16: 0 | I16: 14 | J16: - | K16: - | L16: - | M16: - | N16: 0 | O16: 0 | P16: 0 | Q16: 0 | R16: - | S16: - | T16: 0 | U16: 12 | V16: - | W16: - | X16: 0 | Y16: 0 | Z16: 0 | AA16: 0 | AB16: =SUM(D16:AA16) -> 26
B17: 12. | C17: ZŠ a MŠ Majakovského | D17: 6 | E17: 0 | F17: 0 | G17: 0 | H17: 0 | I17: 0 | J17: - | K17: - | L17: - | M17: - | N17: 0 | O17: 0 | P17: 0 | Q17: 0 | R17: - | S17: - | T17: 0 | U17: 0 | V17: - | W17: - | X17: 0 | Y17: 0 | Z17: 0 | AA17: 0 | AB17: =SUM(D17:AA17) -> 6
... B19: 13.-14. | C19: ZŠ a MŠ Družby | D19: 0 | E19: 0 | F19: 0 | G19: 0 | H19: 0 | I19: 0 | J19: - | K19: - | L19: - | M19: - | N19: 0 | O19: 0 | P19: 0 | Q19: 0 | R19: - | S19: - | T19: 0 | U19: 0 | V19: - | W19: - | X19: 0 | Y19: 0 | Z19: 0 | AA19: 0 | AB19: =SUM(D19:AA19) -> 0
L22: Okresní kolo - umístění do 3. místa = +5 bodů | AB22: Bodovací tabulka PP
L23: Krajské kolo - umístění do 3. místa = +10 bodů | AB23: Poř. | AC23: Body | AD23: Poř. | AE23: Body
L24: Finále ČR - umístění do 3. místa = +15 bodů | AB24: 1. | AC24: 14b | AD24: 8. | AE24: 6b
L25: Hodnoceno dvojnásobně | AB25: 2. | AC25: 12b | AD25: 9. | AE25: 5b
AB26: 3. | AC26: 11b | AD26: 10. | AE26: 4b
AB27: 4. | AC27: 10b | AD27: 11. | AE27: 3b
AB28: 5. | AC28: 9b | AD28: 12. | AE28: 2b
AB29: 6. | AC29: 8b | AD29: 13. | AE29: 1b
AB30: 7. | AC30: 7b

Sheet Chlapci + Dívky
B2: CELKOVÉ VÝSLEDKY BODOVÁNÍ XX. ROČNÍKU POHÁRU PRIMÁTORA STATUTÁRNÍHO MĚSTA KARVINÁ období 1. 9. 2023 - 30. 6. 2024
B4: Pořadí | C4: Škola | D4: Celkem | E4: Chlapci | F4: Dívky
B5: 1. | C5: ZŠ a MŠ Dělnická | D5: =E5+F5 -> 449.5 | E5: =SUMIF(Chlapci!$C$6:$C$19,C5,Chlapci!$AJ$6:$AJ$19) -> 269.5 | F5: =SUMIF(Dívky!$C$6:$C$19,C5,Dívky!$AB$6:$AB$19) -> 180
B6: 2. | C6: ZŠ a MŠ Borovského | D6: =E6+F6 -> 418 | E6: =SUMIF(Chlapci!$C$6:$C$19,C6,Chlapci!$AJ$6:$AJ$19) -> 220 | F6: =SUMIF(Dívky!$C$6:$C$19,C6,Dívky!$AB$6:$AB$19) -> 198
B7: 3. | C7: ZŠ a MŠ Mendelova | D7: =E7+F7 -> 360 | E7: =SUMIF(Chlapci!$C$6:$C$19,C7,Chlapci!$AJ$6:$AJ$19) -> 210 | F7: =SUMIF(Dívky!$C$6:$C$19,C7,Dívky!$AB$6:$AB$19) -> 150
B8: 4. | C8: ZŠ a MŠ U Studny | D8: =E8+F8 -> 293 | E8: =SUMIF(Chlapci!$C$6:$C$19,C8,Chlapci!$AJ$6:$AJ$19) -> 131 | F8: =SUMIF(Dívky!$C$6:$C$19,C8,Dívky!$AB$6:$AB$19) -> 162
B9: 5. | C9: ZŠ a MŠ Cihelní | D9: =E9+F9 -> 255 | E9: =SUMIF(Chlapci!$C$6:$C$19,C9,Chlapci!$AJ$6:$AJ$19) -> 158 | F9: =SUMIF(Dívky!$C$6:$C$19,C9,Dívky!$AB$6:$AB$19) -> 97
B10: 6. | C10: ZŠ a MŠ Prameny | D10: =E10+F10 -> 211.5 | E10: =SUMIF(Chlapci!$C$6:$C$19,C10,Chlapci!$AJ$6:$AJ$19) -> 135 | F10: =SUMIF(Dívky!$C$6:$C$19,C10,Dívky!$AB$6:$AB$19) -> 76.5
B11: 7. | C11: ZŠ a MŠ Slovenská | D11: =E11+F11 -> 156 | E11: =SUMIF(Chlapci!$C$6:$C$19,C11,Chlapci!$AJ$6:$AJ$19) -> 89.5 | F11: =SUMIF(Dívky!$C$6:$C$19,C11,Dívky!$AB$6:$AB$19) -> 66.5
B12: 8. | C12: ZŠ a MŠ Školská | D12: =E12+F12 -> 136.5 | E12: =SUMIF(Chlapci!$C$6:$C$19,C12,Chlapci!$AJ$6:$AJ$19) -> 76.5 | F12: =SUMIF(Dívky!$C$6:$C$19,C12,Dívky!$AB$6:$AB$19) -> 60
B13: 9. | C13: ZŠ a MŠ Petrovice | D13: =E13+F13 -> 132 | E13: =SUMIF(Chlapci!$C$6:$C$19,C13,Chlapci!$AJ$6:$AJ$19) -> 74 | F13: =SUMIF(Dívky!$C$6:$C$19,C13,Dívky!$AB$6:$AB$19) -> 58
B14: 10. | C14: Gymnázium Karviná | D14: =E14+F14 -> 94 | E14: =SUMIF(Chlapci!$C$6:$C$19,C14,Chlapci!$AJ$6:$AJ$19) -> 68 | F14: =SUMIF(Dívky!$C$6:$C$19,C14,Dívky!$AB$6:$AB$19) -> 26
B15: 11. | C15: ZŠ a MŠ U Lesa | D15: =E15+F15 -> 82.5 | E15: =SUMIF(Chlapci!$C$6:$C$19,C15,Chlapci!$AJ$6:$AJ$19) -> 48.5 | F15: =SUMIF(Dívky!$C$6:$C$19,C15,Dívky!$AB$6:$AB$19) -> 34
B16: 12. | C16: ZŠ a MŠ Majakovského | D16: =E16+F16 -> 51.5 | E16: =SUMIF(Chlapci!$C$6:$C$19,C16,Chlapci!$AJ$6:$AJ$19) -> 45.5 | F16: =SUMIF(Dívky!$C$6:$C$19,C16,Dívky!$AB$6:$AB$19) -> 6
... B18: 14. | C18: PZŠ a MŠ Dr. Olszaka | D18: =E18+F18 -> 0 | E18: =SUMIF(Chlapci!$C$6:$C$19,C18,Chlapci!$AJ$6:$AJ$19) -> 0 | F18: =SUMIF(Dívky!$C$6:$C$19,C18,Dívky!$AB$6:$AB$19) -> 0
